BEGIN:VCALENDAR
VERSION:2.0
PRODID:-//Limas Ensemble pour l&#039;Avenir - ECPv6.15.17//NONSGML v1.0//EN
CALSCALE:GREGORIAN
METHOD:PUBLISH
X-WR-CALNAME:Limas Ensemble pour l&#039;Avenir
X-ORIGINAL-URL:https://limasensemblepourlavenir.fr
X-WR-CALDESC:Évènements pour Limas Ensemble pour l&#039;Avenir
REFRESH-INTERVAL;VALUE=DURATION:PT1H
X-Robots-Tag:noindex
X-PUBLISHED-TTL:PT1H
BEGIN:VTIMEZONE
TZID:Europe/Paris
BEGIN:DAYLIGHT
TZOFFSETFROM:+0100
TZOFFSETTO:+0200
TZNAME:CEST
DTSTART:20240331T010000
END:DAYLIGHT
BEGIN:STANDARD
TZOFFSETFROM:+0200
TZOFFSETTO:+0100
TZNAME:CET
DTSTART:20241027T010000
END:STANDARD
BEGIN:DAYLIGHT
TZOFFSETFROM:+0100
TZOFFSETTO:+0200
TZNAME:CEST
DTSTART:20250330T010000
END:DAYLIGHT
BEGIN:STANDARD
TZOFFSETFROM:+0200
TZOFFSETTO:+0100
TZNAME:CET
DTSTART:20251026T010000
END:STANDARD
BEGIN:DAYLIGHT
TZOFFSETFROM:+0100
TZOFFSETTO:+0200
TZNAME:CEST
DTSTART:20260329T010000
END:DAYLIGHT
BEGIN:STANDARD
TZOFFSETFROM:+0200
TZOFFSETTO:+0100
TZNAME:CET
DTSTART:20261025T010000
END:STANDARD
END:VTIMEZONE
BEGIN:VEVENT
DTSTART;TZID=Europe/Paris:20250615T080000
DTEND;TZID=Europe/Paris:20250930T170000
DTSTAMP:20260421T072831
CREATED:20250708T163224Z
LAST-MODIFIED:20250708T163224Z
UID:3628-1749974400-1759251600@limasensemblepourlavenir.fr
SUMMARY:Sondage habitants de Limas
DESCRIPTION:
URL:https://limasensemblepourlavenir.fr/event/sondage-habitants-de-limas/
END:VEVENT
END:VCALENDAR