BEGIN:VCALENDAR
VERSION:2.0
PRODID:-//Limas Ensemble pour l&#039;Avenir - ECPv6.15.17//NONSGML v1.0//EN
CALSCALE:GREGORIAN
METHOD:PUBLISH
X-WR-CALNAME:Limas Ensemble pour l&#039;Avenir
X-ORIGINAL-URL:https://limasensemblepourlavenir.fr
X-WR-CALDESC:Évènements pour Limas Ensemble pour l&#039;Avenir
REFRESH-INTERVAL;VALUE=DURATION:PT1H
X-Robots-Tag:noindex
X-PUBLISHED-TTL:PT1H
BEGIN:VTIMEZONE
TZID:Europe/Paris
BEGIN:DAYLIGHT
TZOFFSETFROM:+0100
TZOFFSETTO:+0200
TZNAME:CEST
DTSTART:20250330T010000
END:DAYLIGHT
BEGIN:STANDARD
TZOFFSETFROM:+0200
TZOFFSETTO:+0100
TZNAME:CET
DTSTART:20251026T010000
END:STANDARD
BEGIN:DAYLIGHT
TZOFFSETFROM:+0100
TZOFFSETTO:+0200
TZNAME:CEST
DTSTART:20260329T010000
END:DAYLIGHT
BEGIN:STANDARD
TZOFFSETFROM:+0200
TZOFFSETTO:+0100
TZNAME:CET
DTSTART:20261025T010000
END:STANDARD
BEGIN:DAYLIGHT
TZOFFSETFROM:+0100
TZOFFSETTO:+0200
TZNAME:CEST
DTSTART:20270328T010000
END:DAYLIGHT
BEGIN:STANDARD
TZOFFSETFROM:+0200
TZOFFSETTO:+0100
TZNAME:CET
DTSTART:20271031T010000
END:STANDARD
END:VTIMEZONE
BEGIN:VEVENT
DTSTART;TZID=Europe/Paris:20260112T190000
DTEND;TZID=Europe/Paris:20260112T210000
DTSTAMP:20260421T010506
CREATED:20251201T152056Z
LAST-MODIFIED:20251201T152056Z
UID:3859-1768244400-1768251600@limasensemblepourlavenir.fr
SUMMARY:Réunion sur le sujet des commerçants et des associations
DESCRIPTION:
URL:https://limasensemblepourlavenir.fr/event/reunion-sur-le-sujet-des-commercants-et-des-associations/
LOCATION:Salle municipale de La Volière
END:VEVENT
END:VCALENDAR