BEGIN:VCALENDAR
VERSION:2.0
PRODID:-//Limas Ensemble pour l&#039;Avenir - ECPv6.15.17//NONSGML v1.0//EN
CALSCALE:GREGORIAN
METHOD:PUBLISH
X-WR-CALNAME:Limas Ensemble pour l&#039;Avenir
X-ORIGINAL-URL:https://limasensemblepourlavenir.fr
X-WR-CALDESC:Évènements pour Limas Ensemble pour l&#039;Avenir
REFRESH-INTERVAL;VALUE=DURATION:PT1H
X-Robots-Tag:noindex
X-PUBLISHED-TTL:PT1H
BEGIN:VTIMEZONE
TZID:Europe/Paris
BEGIN:DAYLIGHT
TZOFFSETFROM:+0100
TZOFFSETTO:+0200
TZNAME:CEST
DTSTART:20240331T010000
END:DAYLIGHT
BEGIN:STANDARD
TZOFFSETFROM:+0200
TZOFFSETTO:+0100
TZNAME:CET
DTSTART:20241027T010000
END:STANDARD
BEGIN:DAYLIGHT
TZOFFSETFROM:+0100
TZOFFSETTO:+0200
TZNAME:CEST
DTSTART:20250330T010000
END:DAYLIGHT
BEGIN:STANDARD
TZOFFSETFROM:+0200
TZOFFSETTO:+0100
TZNAME:CET
DTSTART:20251026T010000
END:STANDARD
BEGIN:DAYLIGHT
TZOFFSETFROM:+0100
TZOFFSETTO:+0200
TZNAME:CEST
DTSTART:20260329T010000
END:DAYLIGHT
BEGIN:STANDARD
TZOFFSETFROM:+0200
TZOFFSETTO:+0100
TZNAME:CET
DTSTART:20261025T010000
END:STANDARD
END:VTIMEZONE
BEGIN:VEVENT
DTSTART;TZID=Europe/Paris:20251218T190000
DTEND;TZID=Europe/Paris:20251218T210000
DTSTAMP:20260421T023943
CREATED:20251201T083323Z
LAST-MODIFIED:20251201T151813Z
UID:3855-1766084400-1766091600@limasensemblepourlavenir.fr
SUMMARY:Réunion sur les compétences de la commune et sur son budget
DESCRIPTION:
URL:https://limasensemblepourlavenir.fr/event/reunion-sur-les-competences-de-la-commune-et-sur-son-budget/
LOCATION:Salle municipale du Lavoir\, rue du Lavoir\, Limas\, France
END:VEVENT
END:VCALENDAR